BEGIN:VCALENDAR
VERSION:2.0
PRODID:-//American Federation of Musicians - ECPv6.15.20//NONSGML v1.0//EN
CALSCALE:GREGORIAN
METHOD:PUBLISH
X-WR-CALNAME:American Federation of Musicians
X-ORIGINAL-URL:https://afmlocal674.org
X-WR-CALDESC:Events for American Federation of Musicians
REFRESH-INTERVAL;VALUE=DURATION:PT1H
X-Robots-Tag:noindex
X-PUBLISHED-TTL:PT1H
BEGIN:VTIMEZONE
TZID:America/New_York
BEGIN:DAYLIGHT
TZOFFSETFROM:-0500
TZOFFSETTO:-0400
TZNAME:EDT
DTSTART:20250309T070000
END:DAYLIGHT
BEGIN:STANDARD
TZOFFSETFROM:-0400
TZOFFSETTO:-0500
TZNAME:EST
DTSTART:20251102T060000
END:STANDARD
BEGIN:DAYLIGHT
TZOFFSETFROM:-0500
TZOFFSETTO:-0400
TZNAME:EDT
DTSTART:20260308T070000
END:DAYLIGHT
BEGIN:STANDARD
TZOFFSETFROM:-0400
TZOFFSETTO:-0500
TZNAME:EST
DTSTART:20261101T060000
END:STANDARD
BEGIN:DAYLIGHT
TZOFFSETFROM:-0500
TZOFFSETTO:-0400
TZNAME:EDT
DTSTART:20270314T070000
END:DAYLIGHT
BEGIN:STANDARD
TZOFFSETFROM:-0400
TZOFFSETTO:-0500
TZNAME:EST
DTSTART:20271107T060000
END:STANDARD
END:VTIMEZONE
BEGIN:VEVENT
DTSTART;TZID=America/New_York:20260614T190000
DTEND;TZID=America/New_York:20260614T210000
DTSTAMP:20260420T221032
CREATED:20260421T000521Z
LAST-MODIFIED:20260421T000526Z
UID:3542-1781463600-1781470800@afmlocal674.org
SUMMARY:Historic Masonic Theatre\, roanoke symphony orchestra
DESCRIPTION:A Patriotic Tribute for America’s 250th Birthday  FREE \n\n\n\nThe mission of the Masonic Theatre Preservation Foundation is to serve the greater Alleghany Highlands community through a variety of educational\, entertainment\, business\, and social programs\, and to partner with organizations in need of a facility to host their programs. By doing so\, the Masonic Theatre and Amphitheatre will be used as first-class venues for performances and as a multi-use space for community activities.  As a result\, the programs and activities in the Theatre will enhance the area’s tourism\, economic development\, and business growth\, while attracting more visitors to the Alleghany Highlands. The community will come together to support and encourage educational and cultural programming initiated by and for the community.
URL:https://afmlocal674.org/event/historic-masonic-theatre-roanoke-symphony-orchestra/
END:VEVENT
END:VCALENDAR