BEGIN:VCALENDAR
VERSION:2.0
PRODID:-//American Federation of Musicians - ECPv6.15.20//NONSGML v1.0//EN
CALSCALE:GREGORIAN
METHOD:PUBLISH
X-WR-CALNAME:American Federation of Musicians
X-ORIGINAL-URL:https://afmlocal674.org
X-WR-CALDESC:Events for American Federation of Musicians
REFRESH-INTERVAL;VALUE=DURATION:PT1H
X-Robots-Tag:noindex
X-PUBLISHED-TTL:PT1H
BEGIN:VTIMEZONE
TZID:America/New_York
BEGIN:DAYLIGHT
TZOFFSETFROM:-0500
TZOFFSETTO:-0400
TZNAME:EDT
DTSTART:20250309T070000
END:DAYLIGHT
BEGIN:STANDARD
TZOFFSETFROM:-0400
TZOFFSETTO:-0500
TZNAME:EST
DTSTART:20251102T060000
END:STANDARD
BEGIN:DAYLIGHT
TZOFFSETFROM:-0500
TZOFFSETTO:-0400
TZNAME:EDT
DTSTART:20260308T070000
END:DAYLIGHT
BEGIN:STANDARD
TZOFFSETFROM:-0400
TZOFFSETTO:-0500
TZNAME:EST
DTSTART:20261101T060000
END:STANDARD
BEGIN:DAYLIGHT
TZOFFSETFROM:-0500
TZOFFSETTO:-0400
TZNAME:EDT
DTSTART:20270314T070000
END:DAYLIGHT
BEGIN:STANDARD
TZOFFSETFROM:-0400
TZOFFSETTO:-0500
TZNAME:EST
DTSTART:20271107T060000
END:STANDARD
END:VTIMEZONE
BEGIN:VEVENT
DTSTART;TZID=America/New_York:20260808T180000
DTEND;TZID=America/New_York:20260808T190000
DTSTAMP:20260420T220840
CREATED:20260106T173120Z
LAST-MODIFIED:20260106T173123Z
UID:3205-1786212000-1786215600@afmlocal674.org
SUMMARY:Garth Newel Music Center\,  AMERICAN MADE: Good Shot Judy
DESCRIPTION:Dubbed the Mid-Atlantic’s No.1 high-octane swing band\, Good Shot Judy is an 8-person “big-amp jazz band that sets stages aflame nationwide”. Enjoy an evening of the great All-American tunes that you grew up with in this high-energy and exciting show. \n\n\n\nFounded in 1973\, Garth Newel Music Center is a year-round chamber music venue situated in the heart of Virginia’s Allegheny Mountains\, presenting over 50 concerts throughout the year performed by the Garth Newel Piano Quartet and other renowned guest musicians. Concerts are paired with gourmet meals created by Resident Chef Josh Elliott\, and lodging is available in the Historic Manor House on the exquisite 114-acre property.
URL:https://afmlocal674.org/event/garth-newel-music-center-american-made-good-shot-judy/
END:VEVENT
BEGIN:VEVENT
DTSTART;TZID=America/New_York:20260808T190000
DTEND;TZID=America/New_York:20260808T210000
DTSTAMP:20260420T220840
CREATED:20260421T000844Z
LAST-MODIFIED:20260421T000849Z
UID:3544-1786215600-1786222800@afmlocal674.org
SUMMARY:Historic Masonic Theatre\, Virginia Opry Presents: Patsy & Elvis
DESCRIPTION:During the 1990s\, Michael Hoover won the East Coast Country Music competition as a vocalist anddefeated 95 Elvis tribute artists in Memphis to win the International Elvis Tribute title prior to setting the box-office record at the Historic Masonic Theatre. Hoover\, a long-time member of The Virginia Opry\, has teamed up with Denise Glass\, The Virginia Opry’s Patsy Cline tribute artist\, to perform “Patsy Meets Elvis at The Virginia Opry.”  \n\n\n\nThe mission of the Masonic Theatre Preservation Foundation is to serve the greater Alleghany Highlands community through a variety of educational\, entertainment\, business\, and social programs\, and to partner with organizations in need of a facility to host their programs. By doing so\, the Masonic Theatre and Amphitheater will be used as first-class venues for performances and as a multi-use space for community activities.  As a result\, the programs and activities in the Theatre will enhance the area’s tourism\, economic development\, and business growth\, while attracting more visitors to the Alleghany Highlands. The community will come together to support and encourage educational and cultural programming initiated by and for the community.
URL:https://afmlocal674.org/event/historic-masonic-theatre-virginia-opry-presents-patsy-elvis/
END:VEVENT
BEGIN:VEVENT
DTSTART;TZID=America/New_York:20260815T170000
DTEND;TZID=America/New_York:20260815T180000
DTSTAMP:20260420T220840
CREATED:20260106T173418Z
LAST-MODIFIED:20260106T173421Z
UID:3207-1786813200-1786816800@afmlocal674.org
SUMMARY:Garth Newel Music Center\, Piano Weekend Day 1
DESCRIPTION:Two programs that will showcase the virtuosic range of great American composers\, from George Gershwin to John Adams\, as well as symphonic masterworks to bring the house down.  Pianists Tian Tian\, Zsolt Bognár\, Genevieve Lee\, and Jeannette Fang \n\n\n\nFounded in 1973\, Garth Newel Music Center is a year-round chamber music venue situated in the heart of Virginia’s Allegheny Mountains\, presenting over 50 concerts throughout the year performed by the Garth Newel Piano Quartet and other renowned guest musicians. Concerts are paired with gourmet meals created by Resident Chef Josh Elliott\, and lodging is available in the Historic Manor House on the exquisite 114-acre property.
URL:https://afmlocal674.org/event/garth-newel-music-center-piano-weekend-day-1/
END:VEVENT
BEGIN:VEVENT
DTSTART;TZID=America/New_York:20260816T150000
DTEND;TZID=America/New_York:20260816T160000
DTSTAMP:20260420T220840
CREATED:20260106T173814Z
LAST-MODIFIED:20260106T173816Z
UID:3209-1786892400-1786896000@afmlocal674.org
SUMMARY:garth newel music center\,  Piano Weekend Day 2
DESCRIPTION:Two programs that will showcase the virtuosic range of great American composers\, from George Gershwin to John Adams\, as well as symphonic masterworks to bring the house down.  Featuring pianists Tian Tian\, Zsolt Bognár\, Genevieve Lee\, and Jeannette Fang \n\n\n\nFounded in 1973\, Garth Newel Music Center is a year-round chamber music venue situated in the heart of Virginia’s Allegheny Mountains\, presenting over 50 concerts throughout the year performed by the Garth Newel Piano Quartet and other renowned guest musicians. Concerts are paired with gourmet meals created by Resident Chef Josh Elliott\, and lodging is available in the Historic Manor House on the exquisite 114-acre property
URL:https://afmlocal674.org/event/garth-newel-music-center-piano-weekend-day-2/
END:VEVENT
BEGIN:VEVENT
DTSTART;TZID=America/New_York:20260817T193000
DTEND;TZID=America/New_York:20260817T213000
DTSTAMP:20260420T220840
CREATED:20260421T001124Z
LAST-MODIFIED:20260421T001234Z
UID:3546-1786995000-1787002200@afmlocal674.org
SUMMARY:Historic Masonic Theatre\, A Neil Diamond Tribute
DESCRIPTION:Experience the feel of Neil as Allynn unveils the story of Diamond’s life through Neil’s own songs from the ‘60s through today\, while weaving through his own comedic career change from an international top 10 Elvis\, to Neil Diamond\, all for the love of a woman.  Allynn began his career in stand-up comedy at the age of 14\, opening for such greats as Chris Rock\, Tim Allen\, and Robin Williams. At 21\, he discovered his musical talents while performing “All Shook Up” at a karaoke night. The girls went wild\, and Allynn was hooked. For several years\, he continued to perform as an Elvis tribute artist and was voted a top 10 Elvis by Graceland in 2004.  Later\, trying to impress a girl who was a huge Neil Diamond fan\, he called her on the phone and\, in his best Neil voice\, sang “Hello Again” from the Jazz Singer. It became their song\, she became his wife\, and he became The Diamond Image. Come see the story unfold live\, along with the story of Neil Diamond’s struggles and triumphs\, enjoying hits like “Sweet Caroline\,” “Song Sung Blue\,” “Hello Again\,” “Brother Love\,” “America\,” and many more. \n\n\n\nThe mission of the Masonic Theatre Preservation Foundation is to serve the greater Alleghany Highlands community through a variety of educational\, entertainment\, business\, and social programs\, and to partner with organizations in need of a facility to host their programs. By doing so\, the Masonic Theatre and Amphitheater will be used as first-class venues for performances and as a multi-use space for community activities.  As a result\, the programs and activities in the Theatre will enhance the area’s tourism\, economic development\, and business growth\, while attracting more visitors to the Alleghany Highlands. The community will come together to support and encourage educational and cultural programming initiated by and for the community.
URL:https://afmlocal674.org/event/historic-masonic-theatre-a-neil-diamond-tribute/
END:VEVENT
BEGIN:VEVENT
DTSTART;TZID=America/New_York:20260822T170000
DTEND;TZID=America/New_York:20260822T180000
DTSTAMP:20260420T220840
CREATED:20260106T174003Z
LAST-MODIFIED:20260106T174005Z
UID:3211-1787418000-1787421600@afmlocal674.org
SUMMARY:garth newel music center\,  String Weekend with Attacca Quartet
DESCRIPTION:GRAMMY® Award-Winning Attacca Quartet joins the string players of the Garth Newel Piano Quartet for our annual string extravaganza. \n\n\n\nFounded in 1973\, Garth Newel Music Center is a year-round chamber music venue situated in the heart of Virginia’s Allegheny Mountains\, presenting over 50 concerts throughout the year performed by the Garth Newel Piano Quartet and other renowned guest musicians. Concerts are paired with gourmet meals created by Resident Chef Josh Elliott\, and lodging is available in the Historic Manor House on the exquisite 114-acre property
URL:https://afmlocal674.org/event/garth-newel-music-center-string-weekend-with-attacca-quartet/
END:VEVENT
BEGIN:VEVENT
DTSTART;TZID=America/New_York:20260823T150000
DTEND;TZID=America/New_York:20260823T160000
DTSTAMP:20260420T220840
CREATED:20260106T174109Z
LAST-MODIFIED:20260106T174253Z
UID:3213-1787497200-1787500800@afmlocal674.org
SUMMARY:garth newel music center\, String Weekend with Attacca Quartet
DESCRIPTION:GRAMMY® Award-Winning Attacca Quartet joins the string players of the Garth Newel Piano Quartet for our annual string extravaganza. \n\n\n\nFounded in 1973\, Garth Newel Music Center is a year-round chamber music venue situated in the heart of Virginia’s Allegheny Mountains\, presenting over 50 concerts throughout the year performed by the Garth Newel Piano Quartet and other renowned guest musicians. Concerts are paired with gourmet meals created by Resident Chef Josh Elliott\, and lodging is available in the Historic Manor House on the exquisite 114-acre property
URL:https://afmlocal674.org/event/garth-newel-music-center-string-weekend-with-attacca-quartet-2/
END:VEVENT
BEGIN:VEVENT
DTSTART;TZID=America/New_York:20260829T170000
DTEND;TZID=America/New_York:20260829T180000
DTSTAMP:20260420T220840
CREATED:20260106T174616Z
LAST-MODIFIED:20260106T174619Z
UID:3216-1788022800-1788026400@afmlocal674.org
SUMMARY:garth newel music center\,  Jennifer Frautschi with Garth Newel Piano Quartet
DESCRIPTION:Two-time GRAMMY® nominee and Avery Fisher career grant recipient violinist Jennifer Frautschi presents a thrilling recital with pianist Jeannette Fang \n\n\n\nFounded in 1973\, Garth Newel Music Center is a year-round chamber music venue situated in the heart of Virginia’s Allegheny Mountains\, presenting over 50 concerts throughout the year performed by the Garth Newel Piano Quartet and other renowned guest musicians. Concerts are paired with gourmet meals created by Resident Chef Josh Elliott\, and lodging is available in the Historic Manor House on the exquisite 114-acre property
URL:https://afmlocal674.org/event/garth-newel-music-center-jennifer-frautschi-with-garth-newel-piano-quartet/
END:VEVENT
BEGIN:VEVENT
DTSTART;TZID=America/New_York:20260830T150000
DTEND;TZID=America/New_York:20260830T160000
DTSTAMP:20260420T220840
CREATED:20260106T174824Z
LAST-MODIFIED:20260106T174826Z
UID:3218-1788102000-1788105600@afmlocal674.org
SUMMARY:garth newel music center\, Jennifer Frautschi with Garth Newel Piano Quartet 2
DESCRIPTION:Jennifer Frautschi joins the Garth Newel Piano Quartet for a program that culminates in the beloved annual performance of Dvořák’s radiant Piano Quintet. \n\n\n\nFounded in 1973\, Garth Newel Music Center is a year-round chamber music venue situated in the heart of Virginia’s Allegheny Mountains\, presenting over 50 concerts throughout the year performed by the Garth Newel Piano Quartet and other renowned guest musicians. Concerts are paired with gourmet meals created by Resident Chef Josh Elliott\, and lodging is available in the Historic Manor House on the exquisite 114-acre property
URL:https://afmlocal674.org/event/garth-newel-music-center-jennifer-frautschi-with-garth-newel-piano-quartet-2/
END:VEVENT
BEGIN:VEVENT
DTSTART;TZID=America/New_York:20260905T170000
DTEND;TZID=America/New_York:20260905T180000
DTSTAMP:20260420T220840
CREATED:20260106T175142Z
LAST-MODIFIED:20260106T175145Z
UID:3220-1788627600-1788631200@afmlocal674.org
SUMMARY:garth newel music center\,  SEASON FINALE with mezzo-soprano Kelley O'Connor\, pianist Robert Spano\, and Garth Newel Piano Quartet
DESCRIPTION:Our summer season culminates with the compelling GRAMMY® Award-winning mezzo-soprano Kelley O’Connor and world-renowned conductor and pianist\, Robert Spano. Known for her “commanding intensity on stage\, a velvet vocal tone\, and the ability to create sheer magic in her interpretations\,” O’Connor joins Spano and GNPQ for a pair of concerts guaranteed to delight. \n\n\n\nFounded in 1973\, Garth Newel Music Center is a year-round chamber music venue situated in the heart of Virginia’s Allegheny Mountains\, presenting over 50 concerts throughout the year performed by the Garth Newel Piano Quartet and other renowned guest musicians. Concerts are paired with gourmet meals created by Resident Chef Josh Elliott\, and lodging is available in the Historic Manor House on the exquisite 114-acre property
URL:https://afmlocal674.org/event/garth-newel-music-center-season-finale-with-mezzo-soprano-kelley-oconnor-pianist-robert-spano-and-garth-newel-piano-quartet/
END:VEVENT
BEGIN:VEVENT
DTSTART;TZID=America/New_York:20260906T150000
DTEND;TZID=America/New_York:20260906T160000
DTSTAMP:20260420T220840
CREATED:20260106T175535Z
LAST-MODIFIED:20260106T175539Z
UID:3222-1788706800-1788710400@afmlocal674.org
SUMMARY:garth newel music center\,  SEASON FINALE with mezzo-soprano Kelley O'Connor\, pianist Robert Spano\, and Garth Newel Piano Quartet
DESCRIPTION:Our summer season culminates with the compelling GRAMMY® Award-winning mezzo-soprano Kelley O’Connor\, and world-renowned conductor and pianist\, Robert Spano. Known for her “commanding intensity on stage\, a velvet vocal tone\, and the ability to create sheer magic in her interpretations”\, O’Connor joins Spano and GNPQ for a pair of concerts guaranteed to delight. \n\n\n\nFounded in 1973\, Garth Newel Music Center is a year-round chamber music venue situated in the heart of Virginia’s Allegheny Mountains\, presenting over 50 concerts throughout the year performed by the Garth Newel Piano Quartet and other renowned guest musicians. Concerts are paired with gourmet meals created by Resident Chef Josh Elliott\, and lodging is available in the Historic Manor House on the exquisite 114-acre property
URL:https://afmlocal674.org/event/garth-newel-music-center-season-finale-with-mezzo-soprano-kelley-oconnor-pianist-robert-spano-and-garth-newel-piano-quartet-2/
END:VEVENT
BEGIN:VEVENT
DTSTART;TZID=America/New_York:20260926T190000
DTEND;TZID=America/New_York:20260926T210000
DTSTAMP:20260420T220840
CREATED:20260421T001558Z
LAST-MODIFIED:20260421T001601Z
UID:3549-1790449200-1790456400@afmlocal674.org
SUMMARY:Historic Masonic Theatre\, Piano Men: Generations
DESCRIPTION:Two Pianos – One Extraordinary Band!Piano Men: Generations isn’t just a concert—it’s a high-octane\, emotionally charged musical journey led by a father-son duo and a world-class band that takes audiences on a ride they won’t forget. At its heart are Terry and Nick—father and son\, bonded by blood and a deep love for the music of Billy Joel and Elton John. Their on-stage chemistry is genuine\, spontaneous\, and moving—sometimes funny\, always magnetic.  Elevating the show is the live band—an electrifying ensemble of elite musicians who are stars in their own right. Guitar solos soar\, bass lines groove\, and the rhythm section drives the performance with precision. At the core is drummer Mike Richau—the visual and sonic heartbeat of the band. With jaw-dropping stick flips\, relentless energy\, and razor-sharp timing\, he turns every show into a spectacle. One moment he’s laying down a subtle groove\, the next he’s launching into a thunderous solo—sticks flying\, crowd roaring. From the first chord to the final encore\, the show is a rollercoaster of iconic hits\, delivered with authenticity\, showmanship\, and a deep sense of legacy. The result? A celebration of music\, family\, and unforgettable moments that span decades and bring generations together. \n\n\n\nThe mission of the Masonic Theatre Preservation Foundation is to serve the greater Alleghany Highlands community through a variety of educational\, entertainment\, business\, and social programs\, and to partner with organizations in need of a facility to host their programs. By doing so\, the Masonic Theatre and Amphitheater will be used as first-class venues for performances and as a multi-use space for community activities.  As a result\, the programs and activities in the Theatre will enhance the area’s tourism\, economic development\, and business growth\, while attracting more visitors to the Alleghany Highlands. The community will come together to support and encourage educational and cultural programming initiated by and for the community.
URL:https://afmlocal674.org/event/historic-masonic-theatre-piano-men-generations/
END:VEVENT
END:VCALENDAR