BEGIN:VCALENDAR
VERSION:2.0
PRODID:-//American Federation of Musicians - ECPv6.15.20//NONSGML v1.0//EN
CALSCALE:GREGORIAN
METHOD:PUBLISH
X-WR-CALNAME:American Federation of Musicians
X-ORIGINAL-URL:https://afmlocal674.org
X-WR-CALDESC:Events for American Federation of Musicians
REFRESH-INTERVAL;VALUE=DURATION:PT1H
X-Robots-Tag:noindex
X-PUBLISHED-TTL:PT1H
BEGIN:VTIMEZONE
TZID:America/New_York
BEGIN:DAYLIGHT
TZOFFSETFROM:-0500
TZOFFSETTO:-0400
TZNAME:EDT
DTSTART:20250309T070000
END:DAYLIGHT
BEGIN:STANDARD
TZOFFSETFROM:-0400
TZOFFSETTO:-0500
TZNAME:EST
DTSTART:20251102T060000
END:STANDARD
BEGIN:DAYLIGHT
TZOFFSETFROM:-0500
TZOFFSETTO:-0400
TZNAME:EDT
DTSTART:20260308T070000
END:DAYLIGHT
BEGIN:STANDARD
TZOFFSETFROM:-0400
TZOFFSETTO:-0500
TZNAME:EST
DTSTART:20261101T060000
END:STANDARD
BEGIN:DAYLIGHT
TZOFFSETFROM:-0500
TZOFFSETTO:-0400
TZNAME:EDT
DTSTART:20270314T070000
END:DAYLIGHT
BEGIN:STANDARD
TZOFFSETFROM:-0400
TZOFFSETTO:-0500
TZNAME:EST
DTSTART:20271107T060000
END:STANDARD
END:VTIMEZONE
BEGIN:VEVENT
DTSTART;TZID=America/New_York:20260926T190000
DTEND;TZID=America/New_York:20260926T210000
DTSTAMP:20260421T025152
CREATED:20260421T001558Z
LAST-MODIFIED:20260421T001601Z
UID:3549-1790449200-1790456400@afmlocal674.org
SUMMARY:Historic Masonic Theatre\, Piano Men: Generations
DESCRIPTION:Two Pianos – One Extraordinary Band!Piano Men: Generations isn’t just a concert—it’s a high-octane\, emotionally charged musical journey led by a father-son duo and a world-class band that takes audiences on a ride they won’t forget. At its heart are Terry and Nick—father and son\, bonded by blood and a deep love for the music of Billy Joel and Elton John. Their on-stage chemistry is genuine\, spontaneous\, and moving—sometimes funny\, always magnetic.  Elevating the show is the live band—an electrifying ensemble of elite musicians who are stars in their own right. Guitar solos soar\, bass lines groove\, and the rhythm section drives the performance with precision. At the core is drummer Mike Richau—the visual and sonic heartbeat of the band. With jaw-dropping stick flips\, relentless energy\, and razor-sharp timing\, he turns every show into a spectacle. One moment he’s laying down a subtle groove\, the next he’s launching into a thunderous solo—sticks flying\, crowd roaring. From the first chord to the final encore\, the show is a rollercoaster of iconic hits\, delivered with authenticity\, showmanship\, and a deep sense of legacy. The result? A celebration of music\, family\, and unforgettable moments that span decades and bring generations together. \n\n\n\nThe mission of the Masonic Theatre Preservation Foundation is to serve the greater Alleghany Highlands community through a variety of educational\, entertainment\, business\, and social programs\, and to partner with organizations in need of a facility to host their programs. By doing so\, the Masonic Theatre and Amphitheater will be used as first-class venues for performances and as a multi-use space for community activities.  As a result\, the programs and activities in the Theatre will enhance the area’s tourism\, economic development\, and business growth\, while attracting more visitors to the Alleghany Highlands. The community will come together to support and encourage educational and cultural programming initiated by and for the community.
URL:https://afmlocal674.org/event/historic-masonic-theatre-piano-men-generations/
END:VEVENT
END:VCALENDAR